Workbook

Sheet Impact Enumeration
A1: Impact Enumeration
A2: Organization: | B2: Active Minds
A3: Year: | B3: 2024
A4: Total Spending: | B4: 9795695
A6: STEP 1 | D6: STEP 2 | G6: STEP 3
A7: Stated Outcome | B7: Stated Amount | D7: Quantity | E7: Unit | G7: My Impacts
A8: HS/College students in MH Advocacy School Chapters | B8: 4800 students | D8: 480 | E8: 10 students | G8: Improved space for advocacy-minded students to talk about MH
A9: Social media engagements on mental health "stop drop and roll" program | B9: 20M social media engagements | D9: 2000 | E9: 10K engagements | G9: Improved awareness about mental health "stop drop and roll" method
A10: Sets of boxed school materials for mental health "stop drop and roll" program | B10: 1500 students | D10: 50 | E10: 30 students | G10: Improved awareness about mental health "stop drop and roll" method
A11: Opening for Surgeon General's college-campus tour encouraging personal connections | B11: 9 stops | D11: 9 | E11: stops | G11: Improved motivation to seek out personal connections, Improved motivation to advocate for mental health
A12: Mental health conference attendance | B12: 400 members | D12: 400 | E12: members | G12: Something nice for people to do, Improved expertise on MH topics for advocacy-minded folks
A13: Funded study about how students prioritize mental health | B13: 1 study | D13: 1 | E13: study | G13: Ammunition for lawmakers and advocates of MH to back up MH initiatives
A14: Free year-long advocacy academy for high schoolers | B14: 150 students | D14: 150 | E14: students | G14: Gained experience developing materials for achieving goals meaningful to student, Gained experience speaking about MH in goal-oriented context, Improved space for advocacy-minded students to talk about MH
A15: Program for high schoolers to develop community led MH initiatives | B15: N/A | D15: 2 | E15: students | G15: Gained experience developing materials for achieving goals meaningful to student, Gained experience speaking about MH in goal-oriented context, Improved space for advocacy-minded students to talk about MH
A16: Stipend for above program | B16: N/A | D16: 0 | E16: dollars | G16: Gained experience developing materials for achieving goals meaningful to student
A17: Creation of Mental Health Voter Guide | B17: 1 guide | D17: 1 | E17: guide | G17: Improved knowledge on voting with MH in mind (considering reach is unspecified)

Sheet Impact Evaluation
A1: Impact Evaluation
A2: Organization: | B2: ='Impact Enumeration'!B2 -> Active Minds | E2: Total Value: | F2: =SUM(H8:H107) -> 667000
A3: Year: | B3: ='Impact Enumeration'!B3 -> 2024 | E3: Value / Dollar Spent: | F3: =IFERROR(F2/B4,"") -> 0.068091136
A4: Total Spending: | B4: ='Impact Enumeration'!B4 -> 9795695
A6: (fill-in from Outcome Sheet) | D6: ( | F6: STEP 4 | H6: STEP 5
A7: Stated Outcome | B7: Quantity | C7: Unit | D7: My Impact | F7: Value / Unit | H7: Computed Value
A8: =IF('Helper Formulas'!$C2="","",IF(INDEX('Impact Enumeration'!A$8:A$206,'Helper Formulas'!$C2)="","",INDEX('Impact Enumeration'!A$8:A$206,'Helper Formulas'!$C2))) -> HS/College students in MH Advocacy School Chapters | B8: =IF('Helper Formulas'!$C2="","",IF(INDEX('Impact Enumeration'!D$8:D$206,'Helper Formulas'!$C2)="","",INDEX('Impact Enumeration'!D$8:D$206,'Helper Formulas'!$C2))) -> 480 | C8: =IF('Helper Formulas'!$C2="","",IF(INDEX('Impact Enumeration'!E$8:E$206,'Helper Formulas'!$C2)="","",INDEX('Impact Enumeration'!E$8:E$206,'Helper Formulas'!$C2))) -> 10 students | D8: =IF('Helper Formulas'!$C2="","",TRIM(MID(SUBSTITUTE(INDEX('Impact Enumeration'!$G$8:$G$206,'Helper Formulas'!$C2),",",REPT(" ",200)),('Helper Formulas'!$D2-1)*200+1,200))) -> Improved space for advocacy-minded students to talk about MH | F8: 1000 | H8: =IFERROR(B8*F8,"") -> 480000
A9: =IF('Helper Formulas'!$C3="","",IF(INDEX('Impact Enumeration'!A$8:A$206,'Helper Formulas'!$C3)="","",INDEX('Impact Enumeration'!A$8:A$206,'Helper Formulas'!$C3))) -> Social media engagements on mental health "stop drop and roll" program | B9: =IF('Helper Formulas'!$C3="","",IF(INDEX('Impact Enumeration'!D$8:D$206,'Helper Formulas'!$C3)="","",INDEX('Impact Enumeration'!D$8:D$206,'Helper Formulas'!$C3))) -> 2000 | C9: =IF('Helper Formulas'!$C3="","",IF(INDEX('Impact Enumeration'!E$8:E$206,'Helper Formulas'!$C3)="","",INDEX('Impact Enumeration'!E$8:E$206,'Helper Formulas'!$C3))) -> 10K engagements | D9: =IF('Helper Formulas'!$C3="","",TRIM(MID(SUBSTITUTE(INDEX('Impact Enumeration'!$G$8:$G$206,'Helper Formulas'!$C3),",",REPT(" ",200)),('Helper Formulas'!$D3-1)*200+1,200))) -> Improved awareness about mental health "stop drop and roll" method | F9: 1 | H9: =IFERROR(B9*F9,"") -> 2000
A10: =IF('Helper Formulas'!$C4="","",IF(INDEX('Impact Enumeration'!A$8:A$206,'Helper Formulas'!$C4)="","",INDEX('Impact Enumeration'!A$8:A$206,'Helper Formulas'!$C4))) -> Sets of boxed school materials for mental health "stop drop and roll" program | B10: =IF('Helper Formulas'!$C4="","",IF(INDEX('Impact Enumeration'!D$8:D$206,'Helper Formulas'!$C4)="","",INDEX('Impact Enumeration'!D$8:D$206,'Helper Formulas'!$C4))) -> 50 | C10: =IF('Helper Formulas'!$C4="","",IF(INDEX('Impact Enumeration'!E$8:E$206,'Helper Formulas'!$C4)="","",INDEX('Impact Enumeration'!E$8:E$206,'Helper Formulas'!$C4))) -> 30 students | D10: =IF('Helper Formulas'!$C4="","",TRIM(MID(SUBSTITUTE(INDEX('Impact Enumeration'!$G$8:$G$206,'Helper Formulas'!$C4),",",REPT(" ",200)),('Helper Formulas'!$D4-1)*200+1,200))) -> Improved awareness about mental health "stop drop and roll" method | F10: 60 | H10: =IFERROR(B10*F10,"") -> 3000
A11: =IF('Helper Formulas'!$C5="","",IF(INDEX('Impact Enumeration'!A$8:A$206,'Helper Formulas'!$C5)="","",INDEX('Impact Enumeration'!A$8:A$206,'Helper Formulas'!$C5))) -> Opening for Surgeon General's college-campus tour encouraging personal connections | B11: =IF('Helper Formulas'!$C5="","",IF(INDEX('Impact Enumeration'!D$8:D$206,'Helper Formulas'!$C5)="","",INDEX('Impact Enumeration'!D$8:D$206,'Helper Formulas'!$C5))) -> 9 | C11: =IF('Helper Formulas'!$C5="","",IF(INDEX('Impact Enumeration'!E$8:E$206,'Helper Formulas'!$C5)="","",INDEX('Impact Enumeration'!E$8:E$206,'Helper Formulas'!$C5))) -> stops | D11: =IF('Helper Formulas'!$C5="","",TRIM(MID(SUBSTITUTE(INDEX('Impact Enumeration'!$G$8:$G$206,'Helper Formulas'!$C5),",",REPT(" ",200)),('Helper Formulas'!$D5-1)*200+1,200))) -> Improved motivation to seek out personal connections | F11: 100 | H11: =IFERROR(B11*F11,"") -> 900
A12: =IF('Helper Formulas'!$C6="","",IF(INDEX('Impact Enumeration'!A$8:A$206,'Helper Formulas'!$C6)="","",INDEX('Impact Enumeration'!A$8:A$206,'Helper Formulas'!$C6))) -> Opening for Surgeon General's college-campus tour encouraging personal connections | B12: =IF('Helper Formulas'!$C6="","",IF(INDEX('Impact Enumeration'!D$8:D$206,'Helper Formulas'!$C6)="","",INDEX('Impact Enumeration'!D$8:D$206,'Helper Formulas'!$C6))) -> 9 | C12: =IF('Helper Formulas'!$C6="","",IF(INDEX('Impact Enumeration'!E$8:E$206,'Helper Formulas'!$C6)="","",INDEX('Impact Enumeration'!E$8:E$206,'Helper Formulas'!$C6))) -> stops | D12: =IF('Helper Formulas'!$C6="","",TRIM(MID(SUBSTITUTE(INDEX('Impact Enumeration'!$G$8:$G$206,'Helper Formulas'!$C6),",",REPT(" ",200)),('Helper Formulas'!$D6-1)*200+1,200))) -> Improved motivation to advocate for mental health | F12: 300 | H12: =IFERROR(B12*F12,"") -> 2700
A13: =IF('Helper Formulas'!$C7="","",IF(INDEX('Impact Enumeration'!A$8:A$206,'Helper Formulas'!$C7)="","",INDEX('Impact Enumeration'!A$8:A$206,'Helper Formulas'!$C7))) -> Mental health conference attendance | B13: =IF('Helper Formulas'!$C7="","",IF(INDEX('Impact Enumeration'!D$8:D$206,'Helper Formulas'!$C7)="","",INDEX('Impact Enumeration'!D$8:D$206,'Helper Formulas'!$C7))) -> 400 | C13: =IF('Helper Formulas'!$C7="","",IF(INDEX('Impact Enumeration'!E$8:E$206,'Helper Formulas'!$C7)="","",INDEX('Impact Enumeration'!E$8:E$206,'Helper Formulas'!$C7))) -> members | D13: =IF('Helper Formulas'!$C7="","",TRIM(MID(SUBSTITUTE(INDEX('Impact Enumeration'!$G$8:$G$206,'Helper Formulas'!$C7),",",REPT(" ",200)),('Helper Formulas'!$D7-1)*200+1,200))) -> Something nice for people to do | F13: 5 | H13: =IFERROR(B13*F13,"") -> 2000
A14: =IF('Helper Formulas'!$C8="","",IF(INDEX('Impact Enumeration'!A$8:A$206,'Helper Formulas'!$C8)="","",INDEX('Impact Enumeration'!A$8:A$206,'Helper Formulas'!$C8))) -> Mental health conference attendance | B14: =IF('Helper Formulas'!$C8="","",IF(INDEX('Impact Enumeration'!D$8:D$206,'Helper Formulas'!$C8)="","",INDEX('Impact Enumeration'!D$8:D$206,'Helper Formulas'!$C8))) -> 400 | C14: =IF('Helper Formulas'!$C8="","",IF(INDEX('Impact Enumeration'!E$8:E$206,'Helper Formulas'!$C8)="","",INDEX('Impact Enumeration'!E$8:E$206,'Helper Formulas'!$C8))) -> members | D14: =IF('Helper Formulas'!$C8="","",TRIM(MID(SUBSTITUTE(INDEX('Impact Enumeration'!$G$8:$G$206,'Helper Formulas'!$C8),",",REPT(" ",200)),('Helper Formulas'!$D8-1)*200+1,200))) -> Improved expertise on MH topics for advocacy-minded folks | F14: 200 | H14: =IFERROR(B14*F14,"") -> 80000
A15: =IF('Helper Formulas'!$C9="","",IF(INDEX('Impact Enumeration'!A$8:A$206,'Helper Formulas'!$C9)="","",INDEX('Impact Enumeration'!A$8:A$206,'Helper Formulas'!$C9))) -> Funded study about how students prioritize mental health | B15: =IF('Helper Formulas'!$C9="","",IF(INDEX('Impact Enumeration'!D$8:D$206,'Helper Formulas'!$C9)="","",INDEX('Impact Enumeration'!D$8:D$206,'Helper Formulas'!$C9))) -> 1 | C15: =IF('Helper Formulas'!$C9="","",IF(INDEX('Impact Enumeration'!E$8:E$206,'Helper Formulas'!$C9)="","",INDEX('Impact Enumeration'!E$8:E$206,'Helper Formulas'!$C9))) -> study | D15: =IF('Helper Formulas'!$C9="","",TRIM(MID(SUBSTITUTE(INDEX('Impact Enumeration'!$G$8:$G$206,'Helper Formulas'!$C9),",",REPT(" ",200)),('Helper Formulas'!$D9-1)*200+1,200))) -> Ammunition for lawmakers and advocates of MH to back up MH initiatives | F15: 10000 | H15: =IFERROR(B15*F15,"") -> 10000
A16: =IF('Helper Formulas'!$C10="","",IF(INDEX('Impact Enumeration'!A$8:A$206,'Helper Formulas'!$C10)="","",INDEX('Impact Enumeration'!A$8:A$206,'Helper Formulas'!$C10))) -> Free year-long advocacy academy for high schoolers | B16: =IF('Helper Formulas'!$C10="","",IF(INDEX('Impact Enumeration'!D$8:D$206,'Helper Formulas'!$C10)="","",INDEX('Impact Enumeration'!D$8:D$206,'Helper Formulas'!$C10))) -> 150 | C16: =IF('Helper Formulas'!$C10="","",IF(INDEX('Impact Enumeration'!E$8:E$206,'Helper Formulas'!$C10)="","",INDEX('Impact Enumeration'!E$8:E$206,'Helper Formulas'!$C10))) -> students | D16: =IF('Helper Formulas'!$C10="","",TRIM(MID(SUBSTITUTE(INDEX('Impact Enumeration'!$G$8:$G$206,'Helper Formulas'!$C10),",",REPT(" ",200)),('Helper Formulas'!$D10-1)*200+1,200))) -> Gained experience developing materials for achieving goals meaningful to student | F16: 300 | H16: =IFERROR(B16*F16,"") -> 45000
A17: =IF('Helper Formulas'!$C11="","",IF(INDEX('Impact Enumeration'!A$8:A$206,'Helper Formulas'!$C11)="","",INDEX('Impact Enumeration'!A$8:A$206,'Helper Formulas'!$C11))) -> Free year-long advocacy academy for high schoolers | B17: =IF('Helper Formulas'!$C11="","",IF(INDEX('Impact Enumeration'!D$8:D$206,'Helper Formulas'!$C11)="","",INDEX('Impact Enumeration'!D$8:D$206,'Helper Formulas'!$C11))) -> 150 | C17: =IF('Helper Formulas'!$C11="","",IF(INDEX('Impact Enumeration'!E$8:E$206,'Helper Formulas'!$C11)="","",INDEX('Impact Enumeration'!E$8:E$206,'Helper Formulas'!$C11))) -> students | D17: =IF('Helper Formulas'!$C11="","",TRIM(MID(SUBSTITUTE(INDEX('Impact Enumeration'!$G$8:$G$206,'Helper Formulas'!$C11),",",REPT(" ",200)),('Helper Formulas'!$D11-1)*200+1,200))) -> Gained experience speaking about MH in goal-oriented context | F17: 200 | H17: =IFERROR(B17*F17,"") -> 30000
A18: =IF('Helper Formulas'!$C12="","",IF(INDEX('Impact Enumeration'!A$8:A$206,'Helper Formulas'!$C12)="","",INDEX('Impact Enumeration'!A$8:A$206,'Helper Formulas'!$C12))) -> Free year-long advocacy academy for high schoolers | B18: =IF('Helper Formulas'!$C12="","",IF(INDEX('Impact Enumeration'!D$8:D$206,'Helper Formulas'!$C12)="","",INDEX('Impact Enumeration'!D$8:D$206,'Helper Formulas'!$C12))) -> 150 | C18: =IF('Helper Formulas'!$C12="","",IF(INDEX('Impact Enumeration'!E$8:E$206,'Helper Formulas'!$C12)="","",INDEX('Impact Enumeration'!E$8:E$206,'Helper Formulas'!$C12))) -> students | D18: =IF('Helper Formulas'!$C12="","",TRIM(MID(SUBSTITUTE(INDEX('Impact Enumeration'!$G$8:$G$206,'Helper Formulas'!$C12),",",REPT(" ",200)),('Helper Formulas'!$D12-1)*200+1,200))) -> Improved space for advocacy-minded students to talk about | F18: 50 | H18: =IFERROR(B18*F18,"") -> 7500
A19: =IF('Helper Formulas'!$C13="","",IF(INDEX('Impact Enumeration'!A$8:A$206,'Helper Formulas'!$C13)="","",INDEX('Impact Enumeration'!A$8:A$206,'Helper Formulas'!$C13))) -> Program for high schoolers to develop community led MH initiatives | B19: =IF('Helper Formulas'!$C13="","",IF(INDEX('Impact Enumeration'!D$8:D$206,'Helper Formulas'!$C13)="","",INDEX('Impact Enumeration'!D$8:D$206,'Helper Formulas'!$C13))) -> 2 | C19: =IF('Helper Formulas'!$C13="","",IF(INDEX('Impact Enumeration'!E$8:E$206,'Helper Formulas'!$C13)="","",INDEX('Impact Enumeration'!E$8:E$206,'Helper Formulas'!$C13))) -> students | D19: =IF('Helper Formulas'!$C13="","",TRIM(MID(SUBSTITUTE(INDEX('Impact Enumeration'!$G$8:$G$206,'Helper Formulas'!$C13),",",REPT(" ",200)),('Helper Formulas'!$D13-1)*200+1,200))) -> Gained experience developing materials for achieving goals meaningful to student | F19: 1000 | H19: =IFERROR(B19*F19,"") -> 2000
... A23: =IF('Helper Formulas'!$C17="","",IF(INDEX('Impact Enumeration'!A$8:A$206,'Helper Formulas'!$C17)="","",INDEX('Impact Enumeration'!A$8:A$206,'Helper Formulas'!$C17))) -> Creation of Mental Health Voter Guide | B23: =IF('Helper Formulas'!$C17="","",IF(INDEX('Impact Enumeration'!D$8:D$206,'Helper Formulas'!$C17)="","",INDEX('Impact Enumeration'!D$8:D$206,'Helper Formulas'!$C17))) -> 1 | C23: =IF('Helper Formulas'!$C17="","",IF(INDEX('Impact Enumeration'!E$8:E$206,'Helper Formulas'!$C17)="","",INDEX('Impact Enumeration'!E$8:E$206,'Helper Formulas'!$C17))) -> guide | D23: =IF('Helper Formulas'!$C17="","",TRIM(MID(SUBSTITUTE(INDEX('Impact Enumeration'!$G$8:$G$206,'Helper Formulas'!$C17),",",REPT(" ",200)),('Helper Formulas'!$D17-1)*200+1,200))) -> Improved knowledge on voting with MH in mind (considering reach is unspecified) | F23: 500 | H23: =IFERROR(B23*F23,"") -> 500
A24: =IF('Helper Formulas'!$C18="","",IF(INDEX('Impact Enumeration'!A$8:A$206,'Helper Formulas'!$C18)="","",INDEX('Impact Enumeration'!A$8:A$206,'Helper Formulas'!$C18))) | B24: =IF('Helper Formulas'!$C18="","",IF(INDEX('Impact Enumeration'!D$8:D$206,'Helper Formulas'!$C18)="","",INDEX('Impact Enumeration'!D$8:D$206,'Helper Formulas'!$C18))) | C24: =IF('Helper Formulas'!$C18="","",IF(INDEX('Impact Enumeration'!E$8:E$206,'Helper Formulas'!$C18)="","",INDEX('Impact Enumeration'!E$8:E$206,'Helper Formulas'!$C18))) | D24: =IF('Helper Formulas'!$C18="","",TRIM(MID(SUBSTITUTE(INDEX('Impact Enumeration'!$G$8:$G$206,'Helper Formulas'!$C18),",",REPT(" ",200)),('Helper Formulas'!$D18-1)*200+1,200))) | H24: =IFERROR(B24*F24,"")
A25: =IF('Helper Formulas'!$C19="","",IF(INDEX('Impact Enumeration'!A$8:A$206,'Helper Formulas'!$C19)="","",INDEX('Impact Enumeration'!A$8:A$206,'Helper Formulas'!$C19))) | B25: =IF('Helper Formulas'!$C19="","",IF(INDEX('Impact Enumeration'!D$8:D$206,'Helper Formulas'!$C19)="","",INDEX('Impact Enumeration'!D$8:D$206,'Helper Formulas'!$C19))) | C25: =IF('Helper Formulas'!$C19="","",IF(INDEX('Impact Enumeration'!E$8:E$206,'Helper Formulas'!$C19)="","",INDEX('Impact Enumeration'!E$8:E$206,'Helper Formulas'!$C19))) | D25: =IF('Helper Formulas'!$C19="","",TRIM(MID(SUBSTITUTE(INDEX('Impact Enumeration'!$G$8:$G$206,'Helper Formulas'!$C19),",",REPT(" ",200)),('Helper Formulas'!$D19-1)*200+1,200))) | H25: =IFERROR(B25*F25,"")
A26: =IF('Helper Formulas'!$C20="","",IF(INDEX('Impact Enumeration'!A$8:A$206,'Helper Formulas'!$C20)="","",INDEX('Impact Enumeration'!A$8:A$206,'Helper Formulas'!$C20))) | B26: =IF('Helper Formulas'!$C20="","",IF(INDEX('Impact Enumeration'!D$8:D$206,'Helper Formulas'!$C20)="","",INDEX('Impact Enumeration'!D$8:D$206,'Helper Formulas'!$C20))) | C26: =IF('Helper Formulas'!$C20="","",IF(INDEX('Impact Enumeration'!E$8:E$206,'Helper Formulas'!$C20)="","",INDEX('Impact Enumeration'!E$8:E$206,'Helper Formulas'!$C20))) | D26: =IF('Helper Formulas'!$C20="","",TRIM(MID(SUBSTITUTE(INDEX('Impact Enumeration'!$G$8:$G$206,'Helper Formulas'!$C20),",",REPT(" ",200)),('Helper Formulas'!$D20-1)*200+1,200))) | H26: =IFERROR(B26*F26,"")
A27: =IF('Helper Formulas'!$C21="","",IF(INDEX('Impact Enumeration'!A$8:A$206,'Helper Formulas'!$C21)="","",INDEX('Impact Enumeration'!A$8:A$206,'Helper Formulas'!$C21))) | B27: =IF('Helper Formulas'!$C21="","",IF(INDEX('Impact Enumeration'!D$8:D$206,'Helper Formulas'!$C21)="","",INDEX('Impact Enumeration'!D$8:D$206,'Helper Formulas'!$C21))) | C27: =IF('Helper Formulas'!$C21="","",IF(INDEX('Impact Enumeration'!E$8:E$206,'Helper Formulas'!$C21)="","",INDEX('Impact Enumeration'!E$8:E$206,'Helper Formulas'!$C21))) | D27: =IF('Helper Formulas'!$C21="","",TRIM(MID(SUBSTITUTE(INDEX('Impact Enumeration'!$G$8:$G$206,'Helper Formulas'!$C21),",",REPT(" ",200)),('Helper Formulas'!$D21-1)*200+1,200))) | H27: =IFERROR(B27*F27,"")
A28: =IF('Helper Formulas'!$C22="","",IF(INDEX('Impact Enumeration'!A$8:A$206,'Helper Formulas'!$C22)="","",INDEX('Impact Enumeration'!A$8:A$206,'Helper Formulas'!$C22))) | B28: =IF('Helper Formulas'!$C22="","",IF(INDEX('Impact Enumeration'!D$8:D$206,'Helper Formulas'!$C22)="","",INDEX('Impact Enumeration'!D$8:D$206,'Helper Formulas'!$C22))) | C28: =IF('Helper Formulas'!$C22="","",IF(INDEX('Impact Enumeration'!E$8:E$206,'Helper Formulas'!$C22)="","",INDEX('Impact Enumeration'!E$8:E$206,'Helper Formulas'!$C22))) | D28: =IF('Helper Formulas'!$C22="","",TRIM(MID(SUBSTITUTE(INDEX('Impact Enumeration'!$G$8:$G$206,'Helper Formulas'!$C22),",",REPT(" ",200)),('Helper Formulas'!$D22-1)*200+1,200))) | H28: =IFERROR(B28*F28,"")
A29: =IF('Helper Formulas'!$C23="","",IF(INDEX('Impact Enumeration'!A$8:A$206,'Helper Formulas'!$C23)="","",INDEX('Impact Enumeration'!A$8:A$206,'Helper Formulas'!$C23))) | B29: =IF('Helper Formulas'!$C23="","",IF(INDEX('Impact Enumeration'!D$8:D$206,'Helper Formulas'!$C23)="","",INDEX('Impact Enumeration'!D$8:D$206,'Helper Formulas'!$C23))) | C29: =IF('Helper Formulas'!$C23="","",IF(INDEX('Impact Enumeration'!E$8:E$206,'Helper Formulas'!$C23)="","",INDEX('Impact Enumeration'!E$8:E$206,'Helper Formulas'!$C23))) | D29: =IF('Helper Formulas'!$C23="","",TRIM(MID(SUBSTITUTE(INDEX('Impact Enumeration'!$G$8:$G$206,'Helper Formulas'!$C23),",",REPT(" ",200)),('Helper Formulas'!$D23-1)*200+1,200))) | H29: =IFERROR(B29*F29,"")
A30: =IF('Helper Formulas'!$C24="","",IF(INDEX('Impact Enumeration'!A$8:A$206,'Helper Formulas'!$C24)="","",INDEX('Impact Enumeration'!A$8:A$206,'Helper Formulas'!$C24))) | B30: =IF('Helper Formulas'!$C24="","",IF(INDEX('Impact Enumeration'!D$8:D$206,'Helper Formulas'!$C24)="","",INDEX('Impact Enumeration'!D$8:D$206,'Helper Formulas'!$C24))) | C30: =IF('Helper Formulas'!$C24="","",IF(INDEX('Impact Enumeration'!E$8:E$206,'Helper Formulas'!$C24)="","",INDEX('Impact Enumeration'!E$8:E$206,'Helper Formulas'!$C24))) | D30: =IF('Helper Formulas'!$C24="","",TRIM(MID(SUBSTITUTE(INDEX('Impact Enumeration'!$G$8:$G$206,'Helper Formulas'!$C24),",",REPT(" ",200)),('Helper Formulas'!$D24-1)*200+1,200))) | H30: =IFERROR(B30*F30,"")
A31: =IF('Helper Formulas'!$C25="","",IF(INDEX('Impact Enumeration'!A$8:A$206,'Helper Formulas'!$C25)="","",INDEX('Impact Enumeration'!A$8:A$206,'Helper Formulas'!$C25))) | B31: =IF('Helper Formulas'!$C25="","",IF(INDEX('Impact Enumeration'!D$8:D$206,'Helper Formulas'!$C25)="","",INDEX('Impact Enumeration'!D$8:D$206,'Helper Formulas'!$C25))) | C31: =IF('Helper Formulas'!$C25="","",IF(INDEX('Impact Enumeration'!E$8:E$206,'Helper Formulas'!$C25)="","",INDEX('Impact Enumeration'!E$8:E$206,'Helper Formulas'!$C25))) | D31: =IF('Helper Formulas'!$C25="","",TRIM(MID(SUBSTITUTE(INDEX('Impact Enumeration'!$G$8:$G$206,'Helper Formulas'!$C25),",",REPT(" ",200)),('Helper Formulas'!$D25-1)*200+1,200))) | H31: =IFERROR(B31*F31,"")
A32: =IF('Helper Formulas'!$C26="","",IF(INDEX('Impact Enumeration'!A$8:A$206,'Helper Formulas'!$C26)="","",INDEX('Impact Enumeration'!A$8:A$206,'Helper Formulas'!$C26))) | B32: =IF('Helper Formulas'!$C26="","",IF(INDEX('Impact Enumeration'!D$8:D$206,'Helper Formulas'!$C26)="","",INDEX('Impact Enumeration'!D$8:D$206,'Helper Formulas'!$C26))) | C32: =IF('Helper Formulas'!$C26="","",IF(INDEX('Impact Enumeration'!E$8:E$206,'Helper Formulas'!$C26)="","",INDEX('Impact Enumeration'!E$8:E$206,'Helper Formulas'!$C26))) | D32: =IF('Helper Formulas'!$C26="","",TRIM(MID(SUBSTITUTE(INDEX('Impact Enumeration'!$G$8:$G$206,'Helper Formulas'!$C26),",",REPT(" ",200)),('Helper Formulas'!$D26-1)*200+1,200))) | H32: =IFERROR(B32*F32,"")
A33: =IF('Helper Formulas'!$C27="","",IF(INDEX('Impact Enumeration'!A$8:A$206,'Helper Formulas'!$C27)="","",INDEX('Impact Enumeration'!A$8:A$206,'Helper Formulas'!$C27))) | B33: =IF('Helper Formulas'!$C27="","",IF(INDEX('Impact Enumeration'!D$8:D$206,'Helper Formulas'!$C27)="","",INDEX('Impact Enumeration'!D$8:D$206,'Helper Formulas'!$C27))) | C33: =IF('Helper Formulas'!$C27="","",IF(INDEX('Impact Enumeration'!E$8:E$206,'Helper Formulas'!$C27)="","",INDEX('Impact Enumeration'!E$8:E$206,'Helper Formulas'!$C27))) | D33: =IF('Helper Formulas'!$C27="","",TRIM(MID(SUBSTITUTE(INDEX('Impact Enumeration'!$G$8:$G$206,'Helper Formulas'!$C27),",",REPT(" ",200)),('Helper Formulas'!$D27-1)*200+1,200))) | H33: =IFERROR(B33*F33,"")
A34: =IF('Helper Formulas'!$C28="","",IF(INDEX('Impact Enumeration'!A$8:A$206,'Helper Formulas'!$C28)="","",INDEX('Impact Enumeration'!A$8:A$206,'Helper Formulas'!$C28))) | B34: =IF('Helper Formulas'!$C28="","",IF(INDEX('Impact Enumeration'!D$8:D$206,'Helper Formulas'!$C28)="","",INDEX('Impact Enumeration'!D$8:D$206,'Helper Formulas'!$C28))) | C34: =IF('Helper Formulas'!$C28="","",IF(INDEX('Impact Enumeration'!E$8:E$206,'Helper Formulas'!$C28)="","",INDEX('Impact Enumeration'!E$8:E$206,'Helper Formulas'!$C28))) | D34: =IF('Helper Formulas'!$C28="","",TRIM(MID(SUBSTITUTE(INDEX('Impact Enumeration'!$G$8:$G$206,'Helper Formulas'!$C28),",",REPT(" ",200)),('Helper Formulas'!$D28-1)*200+1,200))) | H34: =IFERROR(B34*F34,"")
A35: =IF('Helper Formulas'!$C29="","",IF(INDEX('Impact Enumeration'!A$8:A$206,'Helper Formulas'!$C29)="","",INDEX('Impact Enumeration'!A$8:A$206,'Helper Formulas'!$C29))) | B35: =IF('Helper Formulas'!$C29="","",IF(INDEX('Impact Enumeration'!D$8:D$206,'Helper Formulas'!$C29)="","",INDEX('Impact Enumeration'!D$8:D$206,'Helper Formulas'!$C29))) | C35: =IF('Helper Formulas'!$C29="","",IF(INDEX('Impact Enumeration'!E$8:E$206,'Helper Formulas'!$C29)="","",INDEX('Impact Enumeration'!E$8:E$206,'Helper Formulas'!$C29))) | D35: =IF('Helper Formulas'!$C29="","",TRIM(MID(SUBSTITUTE(INDEX('Impact Enumeration'!$G$8:$G$206,'Helper Formulas'!$C29),",",REPT(" ",200)),('Helper Formulas'!$D29-1)*200+1,200))) | H35: =IFERROR(B35*F35,"")
... A105: =IF('Helper Formulas'!$C99="","",IF(INDEX('Impact Enumeration'!A$8:A$206,'Helper Formulas'!$C99)="","",INDEX('Impact Enumeration'!A$8:A$206,'Helper Formulas'!$C99))) | B105: =IF('Helper Formulas'!$C99="","",IF(INDEX('Impact Enumeration'!D$8:D$206,'Helper Formulas'!$C99)="","",INDEX('Impact Enumeration'!D$8:D$206,'Helper Formulas'!$C99))) | C105: =IF('Helper Formulas'!$C99="","",IF(INDEX('Impact Enumeration'!E$8:E$206,'Helper Formulas'!$C99)="","",INDEX('Impact Enumeration'!E$8:E$206,'Helper Formulas'!$C99))) | D105: =IF('Helper Formulas'!$C99="","",TRIM(MID(SUBSTITUTE(INDEX('Impact Enumeration'!$G$8:$G$206,'Helper Formulas'!$C99),",",REPT(" ",200)),('Helper Formulas'!$D99-1)*200+1,200))) | H105: =IFERROR(B105*F105,"")
B106: =IF('Helper Formulas'!$C100="","",IF(INDEX('Impact Enumeration'!D$8:D$206,'Helper Formulas'!$C100)="","",INDEX('Impact Enumeration'!D$8:D$206,'Helper Formulas'!$C100))) | C106: =IF('Helper Formulas'!$C100="","",IF(INDEX('Impact Enumeration'!E$8:E$206,'Helper Formulas'!$C100)="","",INDEX('Impact Enumeration'!E$8:E$206,'Helper Formulas'!$C100))) | D106: =IF('Helper Formulas'!$C100="","",TRIM(MID(SUBSTITUTE(INDEX('Impact Enumeration'!$G$8:$G$206,'Helper Formulas'!$C100),",",REPT(" ",200)),('Helper Formulas'!$D100-1)*200+1,200))) | H106: =IFERROR(B106*F106,"")
A107: =IF('Helper Formulas'!$C101="","",IF(INDEX('Impact Enumeration'!A$8:A$206,'Helper Formulas'!$C101)="","",INDEX('Impact Enumeration'!A$8:A$206,'Helper Formulas'!$C101))) | B107: =IF('Helper Formulas'!$C101="","",IF(INDEX('Impact Enumeration'!D$8:D$206,'Helper Formulas'!$C101)="","",INDEX('Impact Enumeration'!D$8:D$206,'Helper Formulas'!$C101))) | C107: =IF('Helper Formulas'!$C101="","",IF(INDEX('Impact Enumeration'!E$8:E$206,'Helper Formulas'!$C101)="","",INDEX('Impact Enumeration'!E$8:E$206,'Helper Formulas'!$C101))) | D107: =IF('Helper Formulas'!$C101="","",TRIM(MID(SUBSTITUTE(INDEX('Impact Enumeration'!$G$8:$G$206,'Helper Formulas'!$C101),",",REPT(" ",200)),('Helper Formulas'!$D101-1)*200+1,200))) | H107: =IFERROR(B107*F107,"")

Sheet Helper Formulas
A2: =IF(COUNTA('Impact Enumeration'!A8:G8)=0,0,MAX(1,IF(TRIM('Impact Enumeration'!G8)="",0,LEN('Impact Enumeration'!G8)-LEN(SUBSTITUTE('Impact Enumeration'!G8,",",""))+1))) -> 1 | B2: =SUM(A$1:A1)+1 -> 1 | C2: =IF(ROW()-1>SUM($A$2:$A$101),"",MATCH(ROW()-1,$B$2:$B$101,1)) -> 1 | D2: =IF(C2="","",ROW()-1-INDEX($B$2:$B$101,C2)+1) -> 1
A3: =IF(COUNTA('Impact Enumeration'!A9:G9)=0,0,MAX(1,IF(TRIM('Impact Enumeration'!G9)="",0,LEN('Impact Enumeration'!G9)-LEN(SUBSTITUTE('Impact Enumeration'!G9,",",""))+1))) -> 1 | B3: =SUM(A$1:A2)+1 -> 2 | C3: =IF(ROW()-1>SUM($A$2:$A$101),"",MATCH(ROW()-1,$B$2:$B$101,1)) -> 2 | D3: =IF(C3="","",ROW()-1-INDEX($B$2:$B$101,C3)+1) -> 1
A4: =IF(COUNTA('Impact Enumeration'!A10:G10)=0,0,MAX(1,IF(TRIM('Impact Enumeration'!G10)="",0,LEN('Impact Enumeration'!G10)-LEN(SUBSTITUTE('Impact Enumeration'!G10,",",""))+1))) -> 1 | B4: =SUM(A$1:A3)+1 -> 3 | C4: =IF(ROW()-1>SUM($A$2:$A$101),"",MATCH(ROW()-1,$B$2:$B$101,1)) -> 3 | D4: =IF(C4="","",ROW()-1-INDEX($B$2:$B$101,C4)+1) -> 1
A5: =IF(COUNTA('Impact Enumeration'!A11:G11)=0,0,MAX(1,IF(TRIM('Impact Enumeration'!G11)="",0,LEN('Impact Enumeration'!G11)-LEN(SUBSTITUTE('Impact Enumeration'!G11,",",""))+1))) -> 2 | B5: =SUM(A$1:A4)+1 -> 4 | C5: =IF(ROW()-1>SUM($A$2:$A$101),"",MATCH(ROW()-1,$B$2:$B$101,1)) -> 4 | D5: =IF(C5="","",ROW()-1-INDEX($B$2:$B$101,C5)+1) -> 1
A6: =IF(COUNTA('Impact Enumeration'!A12:G12)=0,0,MAX(1,IF(TRIM('Impact Enumeration'!G12)="",0,LEN('Impact Enumeration'!G12)-LEN(SUBSTITUTE('Impact Enumeration'!G12,",",""))+1))) -> 2 | B6: =SUM(A$1:A5)+1 -> 6 | C6: =IF(ROW()-1>SUM($A$2:$A$101),"",MATCH(ROW()-1,$B$2:$B$101,1)) -> 4 | D6: =IF(C6="","",ROW()-1-INDEX($B$2:$B$101,C6)+1) -> 2
A7: =IF(COUNTA('Impact Enumeration'!A13:G13)=0,0,MAX(1,IF(TRIM('Impact Enumeration'!G13)="",0,LEN('Impact Enumeration'!G13)-LEN(SUBSTITUTE('Impact Enumeration'!G13,",",""))+1))) -> 1 | B7: =SUM(A$1:A6)+1 -> 8 | C7: =IF(ROW()-1>SUM($A$2:$A$101),"",MATCH(ROW()-1,$B$2:$B$101,1)) -> 5 | D7: =IF(C7="","",ROW()-1-INDEX($B$2:$B$101,C7)+1) -> 1
A8: =IF(COUNTA('Impact Enumeration'!A14:G14)=0,0,MAX(1,IF(TRIM('Impact Enumeration'!G14)="",0,LEN('Impact Enumeration'!G14)-LEN(SUBSTITUTE('Impact Enumeration'!G14,",",""))+1))) -> 3 | B8: =SUM(A$1:A7)+1 -> 9 | C8: =IF(ROW()-1>SUM($A$2:$A$101),"",MATCH(ROW()-1,$B$2:$B$101,1)) -> 5 | D8: =IF(C8="","",ROW()-1-INDEX($B$2:$B$101,C8)+1) -> 2
A9: =IF(COUNTA('Impact Enumeration'!A15:G15)=0,0,MAX(1,IF(TRIM('Impact Enumeration'!G15)="",0,LEN('Impact Enumeration'!G15)-LEN(SUBSTITUTE('Impact Enumeration'!G15,",",""))+1))) -> 3 | B9: =SUM(A$1:A8)+1 -> 12 | C9: =IF(ROW()-1>SUM($A$2:$A$101),"",MATCH(ROW()-1,$B$2:$B$101,1)) -> 6 | D9: =IF(C9="","",ROW()-1-INDEX($B$2:$B$101,C9)+1) -> 1
A10: =IF(COUNTA('Impact Enumeration'!A16:G16)=0,0,MAX(1,IF(TRIM('Impact Enumeration'!G16)="",0,LEN('Impact Enumeration'!G16)-LEN(SUBSTITUTE('Impact Enumeration'!G16,",",""))+1))) -> 1 | B10: =SUM(A$1:A9)+1 -> 15 | C10: =IF(ROW()-1>SUM($A$2:$A$101),"",MATCH(ROW()-1,$B$2:$B$101,1)) -> 7 | D10: =IF(C10="","",ROW()-1-INDEX($B$2:$B$101,C10)+1) -> 1
A11: =IF(COUNTA('Impact Enumeration'!A17:G17)=0,0,MAX(1,IF(TRIM('Impact Enumeration'!G17)="",0,LEN('Impact Enumeration'!G17)-LEN(SUBSTITUTE('Impact Enumeration'!G17,",",""))+1))) -> 1 | B11: =SUM(A$1:A10)+1 -> 16 | C11: =IF(ROW()-1>SUM($A$2:$A$101),"",MATCH(ROW()-1,$B$2:$B$101,1)) -> 7 | D11: =IF(C11="","",ROW()-1-INDEX($B$2:$B$101,C11)+1) -> 2
A12: =IF(COUNTA('Impact Enumeration'!A18:G18)=0,0,MAX(1,IF(TRIM('Impact Enumeration'!G18)="",0,LEN('Impact Enumeration'!G18)-LEN(SUBSTITUTE('Impact Enumeration'!G18,",",""))+1))) -> 0 | B12: =SUM(A$1:A11)+1 -> 17 | C12: =IF(ROW()-1>SUM($A$2:$A$101),"",MATCH(ROW()-1,$B$2:$B$101,1)) -> 7 | D12: =IF(C12="","",ROW()-1-INDEX($B$2:$B$101,C12)+1) -> 3
A13: =IF(COUNTA('Impact Enumeration'!A19:G19)=0,0,MAX(1,IF(TRIM('Impact Enumeration'!G19)="",0,LEN('Impact Enumeration'!G19)-LEN(SUBSTITUTE('Impact Enumeration'!G19,",",""))+1))) -> 0 | B13: =SUM(A$1:A12)+1 -> 17 | C13: =IF(ROW()-1>SUM($A$2:$A$101),"",MATCH(ROW()-1,$B$2:$B$101,1)) -> 8 | D13: =IF(C13="","",ROW()-1-INDEX($B$2:$B$101,C13)+1) -> 1
... A101: =IF(COUNTA('Impact Enumeration'!A107:G107)=0,0,MAX(1,IF(TRIM('Impact Enumeration'!G107)="",0,LEN('Impact Enumeration'!G107)-LEN(SUBSTITUTE('Impact Enumeration'!G107,",",""))+1))) -> 0 | B101: =SUM(A$1:A100)+1 -> 17 | C101: =IF(ROW()-1>SUM($A$2:$A$101),"",MATCH(ROW()-1,$B$2:$B$101,1)) | D101: =IF(C101="","",ROW()-1-INDEX($B$2:$B$101,C101)+1)
